BEGIN:VCALENDAR
VERSION:2.0
PRODID:-// - ECPv6.15.17//NONSGML v1.0//EN
CALSCALE:GREGORIAN
METHOD:PUBLISH
X-ORIGINAL-URL:https://alumni.capgemini.co.in
X-WR-CALDESC:Events for 
REFRESH-INTERVAL;VALUE=DURATION:PT1H
X-Robots-Tag:noindex
X-PUBLISHED-TTL:PT1H
BEGIN:VTIMEZONE
TZID:UTC
BEGIN:STANDARD
TZOFFSETFROM:+0000
TZOFFSETTO:+0000
TZNAME:UTC
DTSTART:20240101T000000
END:STANDARD
END:VTIMEZONE
BEGIN:VEVENT
DTSTART;TZID=UTC:20251217T170000
DTEND;TZID=UTC:20251217T180000
DTSTAMP:20260421T112915
CREATED:20251103T065740Z
LAST-MODIFIED:20251218T092157Z
UID:29288-1765990800-1765994400@alumni.capgemini.co.in
SUMMARY:Alumni platform pilot launch | Date: December 17\, 2025
DESCRIPTION:About the Event:\nWe are thrilled to launch the Capgemini Alumni Portal — a dedicated space built to reconnect\, engage\, and grow together. This platform is more than a website; it is a vibrant community hub designed to: \n\nReconnect with former colleagues and mentors\nRediscover your Capgemini journey through shared stories and memories\nReignite your professional growth with exclusive content and career opportunities\n\nWhether you are looking to explore new roles\, stay updated with Capgemini’s latest innovations\, or simply relive the moments that shaped your career — this portal is your gateway. \nWhat You’ll Discover\n\nHow Capgemini is building a vibrant alumni ecosystem.\nWays to stay connected\, informed\, and inspired through the new platform.\nStories of growth and impact from fellow alumni.\n\nA walkthrough of the website’s features and how to get started. \nWhy It Matters\nBecause the future of work is built on relationships\, shared experiences\, and the platforms that connect us. This launch is  a movement to celebrate every chapter of your Capgemini journey. \nDeadline to Register: December 05\, 2025Confirmation: A Teams invite will be sent to your registered email.
URL:https://alumni.capgemini.co.in/event/alumni-go-live-reconnect-reflect-reignite/
ATTACH;FMTTYPE=image/jpeg:https://alumni.capgemini.co.in/wp-content/uploads/2025/11/Alumni_Live_Contrast.jpg
END:VEVENT
END:VCALENDAR