BEGIN:VCALENDAR
VERSION:2.0
PRODID:-// - ECPv6.15.17//NONSGML v1.0//EN
CALSCALE:GREGORIAN
METHOD:PUBLISH
X-ORIGINAL-URL:https://alumni.capgemini.co.in
X-WR-CALDESC:Events for 
REFRESH-INTERVAL;VALUE=DURATION:PT1H
X-Robots-Tag:noindex
X-PUBLISHED-TTL:PT1H
BEGIN:VTIMEZONE
TZID:UTC
BEGIN:STANDARD
TZOFFSETFROM:+0000
TZOFFSETTO:+0000
TZNAME:UTC
DTSTART:20240101T000000
END:STANDARD
END:VTIMEZONE
BEGIN:VEVENT
DTSTART;VALUE=DATE:20250808
DTEND;VALUE=DATE:20250809
DTSTAMP:20260423T113417
CREATED:20250630T084119Z
LAST-MODIFIED:20250701T103844Z
UID:24584-1754611200-1754697599@alumni.capgemini.co.in
SUMMARY:Run and fun
DESCRIPTION:The Center Heads Organization is thrilled to announce the upcoming Pune Fun Run\, and we invite you and your family members to join us for an unforgettable day of fun. \n  \nAs we all know\, maintaining an active and healthy lifestyle is crucial for our overall well-being. The Fun Run offers a fantastic opportunity to engage in physical activity and create lasting memories with your loved ones. \n  \nWe have decided to make the event even more special by inviting you to bring along one family member\, either your spouse or child\, to participate in the run together.
URL:https://alumni.capgemini.co.in/event/run-and-fun/
CATEGORIES:Careers
ATTACH;FMTTYPE=image/webp:https://alumni.capgemini.co.in/wp-content/uploads/2024/04/Wawanesa-client-story-web-banner.webp
END:VEVENT
BEGIN:VEVENT
DTSTART;TZID=UTC:20250808T160000
DTEND;TZID=UTC:20250818T173000
DTSTAMP:20260423T113417
CREATED:20250707T080759Z
LAST-MODIFIED:20250708T045635Z
UID:24798-1754668800-1755538200@alumni.capgemini.co.in
SUMMARY:Alumni Exchange
DESCRIPTION:How It Works: \n  \n\nCurated Matching:\n\n\nClusters are formed based on industry\, skills\, or career aspirations (e.g.\, Tech Leadership\, Product Management\, Consulting\, etc.).\n\n\nVirtual Kickoff Event\n\nA 60–90 minute session to launch the program.\nIncludes:\n\nWelcome from a Capgemini leader or alumni ambassador.\nIcebreaker activity (e.g.\, “Two Truths and a Lie” or “Career Bingo”).\nBreakout rooms for each cluster to meet\, introduce themselves\, and set expectations.\n\n\n\n\nCluster structure:\n\n4–6 members per cluster (1–2 mentors + 3–4 mentees).\nMonthly or bi-monthly virtual meetups.\nSuggested themes: Career transitions\, leadership lessons\, tech trends\, work-life balance.\n\n\nSupport Materials\n\nProvide a digital toolkit with:\n\nConversation starters\nGoal-setting templates\nFeedback forms\n\n\n\n\nRecognition & Continuity\n\nHighlight active Clusters in alumni newsletters or LinkedIn.\nOffer digital badges or certificates for participation.\nOption to rotate pods every 6 months to expand networks.
URL:https://alumni.capgemini.co.in/event/alumni-exchange/
LOCATION:Online
CATEGORIES:Careers
ATTACH;FMTTYPE=image/jpeg:https://alumni.capgemini.co.in/wp-content/uploads/2024/11/Capgemini_CRI_hero-banner_V1-6.jpg
END:VEVENT
END:VCALENDAR